BEGIN:VCALENDAR
VERSION:2.0
PRODID:-//Sandusky County Soil and Water Conservation District - ECPv6.15.16.1//NONSGML v1.0//EN
CALSCALE:GREGORIAN
METHOD:PUBLISH
X-ORIGINAL-URL:https://www.sanduskycoswcd.org
X-WR-CALDESC:Events for Sandusky County Soil and Water Conservation District
REFRESH-INTERVAL;VALUE=DURATION:PT1H
X-Robots-Tag:noindex
X-PUBLISHED-TTL:PT1H
BEGIN:VTIMEZONE
TZID:America/New_York
BEGIN:DAYLIGHT
TZOFFSETFROM:-0500
TZOFFSETTO:-0400
TZNAME:EDT
DTSTART:20250309T070000
END:DAYLIGHT
BEGIN:STANDARD
TZOFFSETFROM:-0400
TZOFFSETTO:-0500
TZNAME:EST
DTSTART:20251102T060000
END:STANDARD
BEGIN:DAYLIGHT
TZOFFSETFROM:-0500
TZOFFSETTO:-0400
TZNAME:EDT
DTSTART:20260308T070000
END:DAYLIGHT
BEGIN:STANDARD
TZOFFSETFROM:-0400
TZOFFSETTO:-0500
TZNAME:EST
DTSTART:20261101T060000
END:STANDARD
BEGIN:DAYLIGHT
TZOFFSETFROM:-0500
TZOFFSETTO:-0400
TZNAME:EDT
DTSTART:20270314T070000
END:DAYLIGHT
BEGIN:STANDARD
TZOFFSETFROM:-0400
TZOFFSETTO:-0500
TZNAME:EST
DTSTART:20271107T060000
END:STANDARD
END:VTIMEZONE
BEGIN:VEVENT
DTSTART;TZID=America/New_York:20260910T080000
DTEND;TZID=America/New_York:20260910T090000
DTSTAMP:20260422T121455
CREATED:20260224T181231Z
LAST-MODIFIED:20260224T195812Z
UID:4255-1789027200-1789030800@www.sanduskycoswcd.org
SUMMARY:Board Meeting
DESCRIPTION:
URL:https://www.sanduskycoswcd.org/event/board-meeting-56/
LOCATION:Sandusky County Soil & Water\, 2000 Countryside Dr. Suite A\, Fremont\, Ohio\, 43420
END:VEVENT
BEGIN:VEVENT
DTSTART;TZID=America/New_York:20261008T080000
DTEND;TZID=America/New_York:20261008T090000
DTSTAMP:20260422T121455
CREATED:20260224T181254Z
LAST-MODIFIED:20260224T195843Z
UID:4257-1791446400-1791450000@www.sanduskycoswcd.org
SUMMARY:Board Meeting
DESCRIPTION:
URL:https://www.sanduskycoswcd.org/event/board-meeting-57/
LOCATION:Sandusky County Soil & Water\, 2000 Countryside Dr. Suite A\, Fremont\, Ohio\, 43420
END:VEVENT
BEGIN:VEVENT
DTSTART;TZID=America/New_York:20261112T080000
DTEND;TZID=America/New_York:20261112T090000
DTSTAMP:20260422T121455
CREATED:20260224T181320Z
LAST-MODIFIED:20260224T195859Z
UID:4259-1794470400-1794474000@www.sanduskycoswcd.org
SUMMARY:Board Meeting
DESCRIPTION:
URL:https://www.sanduskycoswcd.org/event/board-meeting-58/
LOCATION:Sandusky County Soil & Water\, 2000 Countryside Dr. Suite A\, Fremont\, Ohio\, 43420
END:VEVENT
BEGIN:VEVENT
DTSTART;TZID=America/New_York:20261210T080000
DTEND;TZID=America/New_York:20261210T090000
DTSTAMP:20260422T121455
CREATED:20260224T181347Z
LAST-MODIFIED:20260224T195915Z
UID:4261-1796889600-1796893200@www.sanduskycoswcd.org
SUMMARY:Board Meeting
DESCRIPTION:
URL:https://www.sanduskycoswcd.org/event/board-meeting-59/
LOCATION:Sandusky County Soil & Water\, 2000 Countryside Dr. Suite A\, Fremont\, Ohio\, 43420
END:VEVENT
END:VCALENDAR